BEGIN:VCALENDAR
VERSION:2.0
PRODID:-//Comité de parents de Laval - ECPv5.0.1//NONSGML v1.0//EN
CALSCALE:GREGORIAN
METHOD:PUBLISH
X-WR-CALNAME:Comité de parents de Laval
X-ORIGINAL-URL:https://comitedeparentslaval.com
X-WR-CALDESC:Événements pour Comité de parents de Laval
BEGIN:VTIMEZONE
TZID:America/New_York
BEGIN:DAYLIGHT
TZOFFSETFROM:-0500
TZOFFSETTO:-0400
TZNAME:EDT
DTSTART:20240310T070000
END:DAYLIGHT
BEGIN:STANDARD
TZOFFSETFROM:-0400
TZOFFSETTO:-0500
TZNAME:EST
DTSTART:20241103T060000
END:STANDARD
END:VTIMEZONE
BEGIN:VEVENT
DTSTART;TZID=America/New_York:20240527T183000
DTEND;TZID=America/New_York:20240527T220000
DTSTAMP:20260423T213034
CREATED:20230914T110939Z
LAST-MODIFIED:20230914T110939Z
UID:4582-1716834600-1716847200@comitedeparentslaval.com
SUMMARY:Conseil d'administration du CSS Laval
DESCRIPTION:Partagez
URL:https://comitedeparentslaval.com/calendrier/conseil-dadministration-du-css-laval/2024-05-27/
CATEGORIES:Conseil d'administration Centre de Service Scolaire de Laval
ATTACH;FMTTYPE=image/jpeg:https://comitedeparentslaval.com/wp-content/uploads/2020/07/csdl-2745110.jpg
END:VEVENT
END:VCALENDAR